BEGIN:VCALENDAR
VERSION:2.0
PRODID:-//hacksw/handcal//NONSGML v1.0//EN
BEGIN:VEVENT
SUMMARY:Championnats de Haute-Saone individuels
UID:dbe0cc85-c78d-48c1-9b58-36ea72972df3
DTSTART:20260523T220000Z
DTEND:20260524T220000Z
LOCATION:Localisation   
CATEGORIES:Sportif
STATUS:
URL;VALUE=URI:https://www.emvesoul.fr/evenements/2026/05/24/championnats-de-haute-saone-individuels-2433225
END:VEVENT
END:VCALENDAR
